BEGIN:VCALENDAR
VERSION:2.0
PRODID:-//NorthShore Country Club - Portland, TX - ECPv6.15.20//NONSGML v1.0//EN
CALSCALE:GREGORIAN
METHOD:PUBLISH
X-WR-CALNAME:NorthShore Country Club - Portland, TX
X-ORIGINAL-URL:https://northshoretx.com
X-WR-CALDESC:Events for NorthShore Country Club - Portland, TX
REFRESH-INTERVAL;VALUE=DURATION:PT1H
X-Robots-Tag:noindex
X-PUBLISHED-TTL:PT1H
BEGIN:VTIMEZONE
TZID:UTC
BEGIN:STANDARD
TZOFFSETFROM:+0000
TZOFFSETTO:+0000
TZNAME:UTC
DTSTART:20280101T000000
END:STANDARD
END:VTIMEZONE
BEGIN:VEVENT
DTSTART;TZID=UTC:20290210T080000
DTEND;TZID=UTC:20290210T170000
DTSTAMP:20260426T014449
CREATED:20260226T192605Z
LAST-MODIFIED:20260226T192609Z
UID:10000448-1865404800-1865437200@northshoretx.com
SUMMARY:MGA Monthly Golf Tournament
DESCRIPTION:
URL:https://northshoretx.com/event/mga-monthly-golf-tournament/2029-02-10/
END:VEVENT
BEGIN:VEVENT
DTSTART;TZID=UTC:20290211T080000
DTEND;TZID=UTC:20290211T170000
DTSTAMP:20260426T014449
CREATED:20260226T192144Z
LAST-MODIFIED:20260226T192148Z
UID:10000176-1865491200-1865523600@northshoretx.com
SUMMARY:Sunday Brunch
DESCRIPTION:
URL:https://northshoretx.com/event/sunday-brunch/2029-02-11/
END:VEVENT
BEGIN:VEVENT
DTSTART;TZID=UTC:20290216T170000
DTEND;TZID=UTC:20290216T210000
DTSTAMP:20260426T014449
CREATED:20260226T203228Z
LAST-MODIFIED:20260226T203234Z
UID:10000551-1865955600-1865970000@northshoretx.com
SUMMARY:Poker Night at NorthShore
DESCRIPTION:
URL:https://northshoretx.com/event/poker-night-at-northshore/2029-02-16/
END:VEVENT
BEGIN:VEVENT
DTSTART;TZID=UTC:20290218T080000
DTEND;TZID=UTC:20290218T170000
DTSTAMP:20260426T014449
CREATED:20260226T192144Z
LAST-MODIFIED:20260226T192148Z
UID:10000177-1866096000-1866128400@northshoretx.com
SUMMARY:Sunday Brunch
DESCRIPTION:
URL:https://northshoretx.com/event/sunday-brunch/2029-02-18/
END:VEVENT
BEGIN:VEVENT
DTSTART;TZID=UTC:20290225T080000
DTEND;TZID=UTC:20290225T170000
DTSTAMP:20260426T014449
CREATED:20260226T192144Z
LAST-MODIFIED:20260226T192148Z
UID:10000178-1866700800-1866733200@northshoretx.com
SUMMARY:Sunday Brunch
DESCRIPTION:
URL:https://northshoretx.com/event/sunday-brunch/2029-02-25/
END:VEVENT
BEGIN:VEVENT
DTSTART;TZID=UTC:20290302T170000
DTEND;TZID=UTC:20290302T210000
DTSTAMP:20260426T014449
CREATED:20260226T203228Z
LAST-MODIFIED:20260226T203234Z
UID:10000552-1867165200-1867179600@northshoretx.com
SUMMARY:Poker Night at NorthShore
DESCRIPTION:
URL:https://northshoretx.com/event/poker-night-at-northshore/2029-03-02/
END:VEVENT
BEGIN:VEVENT
DTSTART;TZID=UTC:20290304T080000
DTEND;TZID=UTC:20290304T170000
DTSTAMP:20260426T014449
CREATED:20260226T192144Z
LAST-MODIFIED:20260226T192148Z
UID:10000179-1867305600-1867338000@northshoretx.com
SUMMARY:Sunday Brunch
DESCRIPTION:
URL:https://northshoretx.com/event/sunday-brunch/2029-03-04/
END:VEVENT
BEGIN:VEVENT
DTSTART;TZID=UTC:20290310T080000
DTEND;TZID=UTC:20290310T170000
DTSTAMP:20260426T014449
CREATED:20260226T192605Z
LAST-MODIFIED:20260226T192609Z
UID:10000449-1867824000-1867856400@northshoretx.com
SUMMARY:MGA Monthly Golf Tournament
DESCRIPTION:
URL:https://northshoretx.com/event/mga-monthly-golf-tournament/2029-03-10/
END:VEVENT
BEGIN:VEVENT
DTSTART;TZID=UTC:20290311T080000
DTEND;TZID=UTC:20290311T170000
DTSTAMP:20260426T014449
CREATED:20260226T192144Z
LAST-MODIFIED:20260226T192148Z
UID:10000180-1867910400-1867942800@northshoretx.com
SUMMARY:Sunday Brunch
DESCRIPTION:
URL:https://northshoretx.com/event/sunday-brunch/2029-03-11/
END:VEVENT
BEGIN:VEVENT
DTSTART;TZID=UTC:20290316T170000
DTEND;TZID=UTC:20290316T210000
DTSTAMP:20260426T014449
CREATED:20260226T203228Z
LAST-MODIFIED:20260226T203234Z
UID:10000553-1868374800-1868389200@northshoretx.com
SUMMARY:Poker Night at NorthShore
DESCRIPTION:
URL:https://northshoretx.com/event/poker-night-at-northshore/2029-03-16/
END:VEVENT
BEGIN:VEVENT
DTSTART;TZID=UTC:20290318T080000
DTEND;TZID=UTC:20290318T170000
DTSTAMP:20260426T014449
CREATED:20260226T192144Z
LAST-MODIFIED:20260226T192148Z
UID:10000181-1868515200-1868547600@northshoretx.com
SUMMARY:Sunday Brunch
DESCRIPTION:
URL:https://northshoretx.com/event/sunday-brunch/2029-03-18/
END:VEVENT
BEGIN:VEVENT
DTSTART;TZID=UTC:20290325T080000
DTEND;TZID=UTC:20290325T170000
DTSTAMP:20260426T014449
CREATED:20260226T192144Z
LAST-MODIFIED:20260226T192148Z
UID:10000182-1869120000-1869152400@northshoretx.com
SUMMARY:Sunday Brunch
DESCRIPTION:
URL:https://northshoretx.com/event/sunday-brunch/2029-03-25/
END:VEVENT
BEGIN:VEVENT
DTSTART;TZID=UTC:20290330T170000
DTEND;TZID=UTC:20290330T210000
DTSTAMP:20260426T014449
CREATED:20260226T203228Z
LAST-MODIFIED:20260226T203234Z
UID:10000554-1869584400-1869598800@northshoretx.com
SUMMARY:Poker Night at NorthShore
DESCRIPTION:
URL:https://northshoretx.com/event/poker-night-at-northshore/2029-03-30/
END:VEVENT
BEGIN:VEVENT
DTSTART;TZID=UTC:20290401T080000
DTEND;TZID=UTC:20290401T170000
DTSTAMP:20260426T014449
CREATED:20260226T192144Z
LAST-MODIFIED:20260226T192148Z
UID:10000183-1869724800-1869757200@northshoretx.com
SUMMARY:Sunday Brunch
DESCRIPTION:
URL:https://northshoretx.com/event/sunday-brunch/2029-04-01/
END:VEVENT
BEGIN:VEVENT
DTSTART;TZID=UTC:20290408T080000
DTEND;TZID=UTC:20290408T170000
DTSTAMP:20260426T014449
CREATED:20260226T192144Z
LAST-MODIFIED:20260226T192148Z
UID:10000184-1870329600-1870362000@northshoretx.com
SUMMARY:Sunday Brunch
DESCRIPTION:
URL:https://northshoretx.com/event/sunday-brunch/2029-04-08/
END:VEVENT
BEGIN:VEVENT
DTSTART;TZID=UTC:20290413T170000
DTEND;TZID=UTC:20290413T210000
DTSTAMP:20260426T014449
CREATED:20260226T203228Z
LAST-MODIFIED:20260226T203234Z
UID:10000555-1870794000-1870808400@northshoretx.com
SUMMARY:Poker Night at NorthShore
DESCRIPTION:
URL:https://northshoretx.com/event/poker-night-at-northshore/2029-04-13/
END:VEVENT
BEGIN:VEVENT
DTSTART;TZID=UTC:20290414T080000
DTEND;TZID=UTC:20290414T170000
DTSTAMP:20260426T014449
CREATED:20260226T192605Z
LAST-MODIFIED:20260226T192609Z
UID:10000450-1870848000-1870880400@northshoretx.com
SUMMARY:MGA Monthly Golf Tournament
DESCRIPTION:
URL:https://northshoretx.com/event/mga-monthly-golf-tournament/2029-04-14/
END:VEVENT
BEGIN:VEVENT
DTSTART;TZID=UTC:20290415T080000
DTEND;TZID=UTC:20290415T170000
DTSTAMP:20260426T014449
CREATED:20260226T192144Z
LAST-MODIFIED:20260226T192148Z
UID:10000185-1870934400-1870966800@northshoretx.com
SUMMARY:Sunday Brunch
DESCRIPTION:
URL:https://northshoretx.com/event/sunday-brunch/2029-04-15/
END:VEVENT
BEGIN:VEVENT
DTSTART;TZID=UTC:20290422T080000
DTEND;TZID=UTC:20290422T170000
DTSTAMP:20260426T014449
CREATED:20260226T192144Z
LAST-MODIFIED:20260226T192148Z
UID:10000186-1871539200-1871571600@northshoretx.com
SUMMARY:Sunday Brunch
DESCRIPTION:
URL:https://northshoretx.com/event/sunday-brunch/2029-04-22/
END:VEVENT
BEGIN:VEVENT
DTSTART;TZID=UTC:20290427T170000
DTEND;TZID=UTC:20290427T210000
DTSTAMP:20260426T014449
CREATED:20260226T203228Z
LAST-MODIFIED:20260226T203234Z
UID:10000556-1872003600-1872018000@northshoretx.com
SUMMARY:Poker Night at NorthShore
DESCRIPTION:
URL:https://northshoretx.com/event/poker-night-at-northshore/2029-04-27/
END:VEVENT
BEGIN:VEVENT
DTSTART;TZID=UTC:20290429T080000
DTEND;TZID=UTC:20290429T170000
DTSTAMP:20260426T014449
CREATED:20260226T192144Z
LAST-MODIFIED:20260226T192148Z
UID:10000187-1872144000-1872176400@northshoretx.com
SUMMARY:Sunday Brunch
DESCRIPTION:
URL:https://northshoretx.com/event/sunday-brunch/2029-04-29/
END:VEVENT
BEGIN:VEVENT
DTSTART;TZID=UTC:20290506T080000
DTEND;TZID=UTC:20290506T170000
DTSTAMP:20260426T014449
CREATED:20260226T192144Z
LAST-MODIFIED:20260226T192148Z
UID:10000188-1872748800-1872781200@northshoretx.com
SUMMARY:Sunday Brunch
DESCRIPTION:
URL:https://northshoretx.com/event/sunday-brunch/2029-05-06/
END:VEVENT
BEGIN:VEVENT
DTSTART;TZID=UTC:20290511T170000
DTEND;TZID=UTC:20290511T210000
DTSTAMP:20260426T014449
CREATED:20260226T203228Z
LAST-MODIFIED:20260226T203234Z
UID:10000557-1873213200-1873227600@northshoretx.com
SUMMARY:Poker Night at NorthShore
DESCRIPTION:
URL:https://northshoretx.com/event/poker-night-at-northshore/2029-05-11/
END:VEVENT
BEGIN:VEVENT
DTSTART;TZID=UTC:20290512T080000
DTEND;TZID=UTC:20290512T170000
DTSTAMP:20260426T014449
CREATED:20260226T192605Z
LAST-MODIFIED:20260226T192609Z
UID:10000451-1873267200-1873299600@northshoretx.com
SUMMARY:MGA Monthly Golf Tournament
DESCRIPTION:
URL:https://northshoretx.com/event/mga-monthly-golf-tournament/2029-05-12/
END:VEVENT
BEGIN:VEVENT
DTSTART;TZID=UTC:20290513T080000
DTEND;TZID=UTC:20290513T170000
DTSTAMP:20260426T014449
CREATED:20260226T192144Z
LAST-MODIFIED:20260226T192148Z
UID:10000189-1873353600-1873386000@northshoretx.com
SUMMARY:Sunday Brunch
DESCRIPTION:
URL:https://northshoretx.com/event/sunday-brunch/2029-05-13/
END:VEVENT
BEGIN:VEVENT
DTSTART;TZID=UTC:20290520T080000
DTEND;TZID=UTC:20290520T170000
DTSTAMP:20260426T014449
CREATED:20260226T192144Z
LAST-MODIFIED:20260226T192148Z
UID:10000190-1873958400-1873990800@northshoretx.com
SUMMARY:Sunday Brunch
DESCRIPTION:
URL:https://northshoretx.com/event/sunday-brunch/2029-05-20/
END:VEVENT
BEGIN:VEVENT
DTSTART;TZID=UTC:20290525T170000
DTEND;TZID=UTC:20290525T210000
DTSTAMP:20260426T014449
CREATED:20260226T203228Z
LAST-MODIFIED:20260226T203234Z
UID:10000558-1874422800-1874437200@northshoretx.com
SUMMARY:Poker Night at NorthShore
DESCRIPTION:
URL:https://northshoretx.com/event/poker-night-at-northshore/2029-05-25/
END:VEVENT
BEGIN:VEVENT
DTSTART;TZID=UTC:20290527T080000
DTEND;TZID=UTC:20290527T170000
DTSTAMP:20260426T014449
CREATED:20260226T192144Z
LAST-MODIFIED:20260226T192148Z
UID:10000191-1874563200-1874595600@northshoretx.com
SUMMARY:Sunday Brunch
DESCRIPTION:
URL:https://northshoretx.com/event/sunday-brunch/2029-05-27/
END:VEVENT
BEGIN:VEVENT
DTSTART;TZID=UTC:20290603T080000
DTEND;TZID=UTC:20290603T170000
DTSTAMP:20260426T014449
CREATED:20260226T192144Z
LAST-MODIFIED:20260226T192148Z
UID:10000192-1875168000-1875200400@northshoretx.com
SUMMARY:Sunday Brunch
DESCRIPTION:
URL:https://northshoretx.com/event/sunday-brunch/2029-06-03/
END:VEVENT
BEGIN:VEVENT
DTSTART;TZID=UTC:20290608T170000
DTEND;TZID=UTC:20290608T210000
DTSTAMP:20260426T014449
CREATED:20260226T203228Z
LAST-MODIFIED:20260226T203234Z
UID:10000559-1875632400-1875646800@northshoretx.com
SUMMARY:Poker Night at NorthShore
DESCRIPTION:
URL:https://northshoretx.com/event/poker-night-at-northshore/2029-06-08/
END:VEVENT
END:VCALENDAR