BEGIN:VCALENDAR
VERSION:2.0
PRODID:-//NorthShore Country Club - Portland, TX - ECPv6.15.20//NONSGML v1.0//EN
CALSCALE:GREGORIAN
METHOD:PUBLISH
X-WR-CALNAME:NorthShore Country Club - Portland, TX
X-ORIGINAL-URL:https://northshoretx.com
X-WR-CALDESC:Events for NorthShore Country Club - Portland, TX
REFRESH-INTERVAL;VALUE=DURATION:PT1H
X-Robots-Tag:noindex
X-PUBLISHED-TTL:PT1H
BEGIN:VTIMEZONE
TZID:UTC
BEGIN:STANDARD
TZOFFSETFROM:+0000
TZOFFSETTO:+0000
TZNAME:UTC
DTSTART:20270101T000000
END:STANDARD
END:VTIMEZONE
BEGIN:VEVENT
DTSTART;TZID=UTC:20280709T080000
DTEND;TZID=UTC:20280709T170000
DTSTAMP:20260425T195306
CREATED:20260226T192144Z
LAST-MODIFIED:20260226T192148Z
UID:10000145-1846742400-1846774800@northshoretx.com
SUMMARY:Sunday Brunch
DESCRIPTION:
URL:https://northshoretx.com/event/sunday-brunch/2028-07-09/
END:VEVENT
BEGIN:VEVENT
DTSTART;TZID=UTC:20280716T080000
DTEND;TZID=UTC:20280716T170000
DTSTAMP:20260425T195306
CREATED:20260226T192144Z
LAST-MODIFIED:20260226T192148Z
UID:10000146-1847347200-1847379600@northshoretx.com
SUMMARY:Sunday Brunch
DESCRIPTION:
URL:https://northshoretx.com/event/sunday-brunch/2028-07-16/
END:VEVENT
BEGIN:VEVENT
DTSTART;TZID=UTC:20280721T170000
DTEND;TZID=UTC:20280721T210000
DTSTAMP:20260425T195306
CREATED:20260226T203228Z
LAST-MODIFIED:20260226T203234Z
UID:10000536-1847811600-1847826000@northshoretx.com
SUMMARY:Poker Night at NorthShore
DESCRIPTION:
URL:https://northshoretx.com/event/poker-night-at-northshore/2028-07-21/
END:VEVENT
BEGIN:VEVENT
DTSTART;TZID=UTC:20280723T080000
DTEND;TZID=UTC:20280723T170000
DTSTAMP:20260425T195306
CREATED:20260226T192144Z
LAST-MODIFIED:20260226T192148Z
UID:10000147-1847952000-1847984400@northshoretx.com
SUMMARY:Sunday Brunch
DESCRIPTION:
URL:https://northshoretx.com/event/sunday-brunch/2028-07-23/
END:VEVENT
BEGIN:VEVENT
DTSTART;TZID=UTC:20280730T080000
DTEND;TZID=UTC:20280730T170000
DTSTAMP:20260425T195306
CREATED:20260226T192144Z
LAST-MODIFIED:20260226T192148Z
UID:10000148-1848556800-1848589200@northshoretx.com
SUMMARY:Sunday Brunch
DESCRIPTION:
URL:https://northshoretx.com/event/sunday-brunch/2028-07-30/
END:VEVENT
BEGIN:VEVENT
DTSTART;TZID=UTC:20280804T170000
DTEND;TZID=UTC:20280804T210000
DTSTAMP:20260425T195306
CREATED:20260226T203228Z
LAST-MODIFIED:20260226T203234Z
UID:10000537-1849021200-1849035600@northshoretx.com
SUMMARY:Poker Night at NorthShore
DESCRIPTION:
URL:https://northshoretx.com/event/poker-night-at-northshore/2028-08-04/
END:VEVENT
BEGIN:VEVENT
DTSTART;TZID=UTC:20280806T080000
DTEND;TZID=UTC:20280806T170000
DTSTAMP:20260425T195306
CREATED:20260226T192144Z
LAST-MODIFIED:20260226T192148Z
UID:10000149-1849161600-1849194000@northshoretx.com
SUMMARY:Sunday Brunch
DESCRIPTION:
URL:https://northshoretx.com/event/sunday-brunch/2028-08-06/
END:VEVENT
BEGIN:VEVENT
DTSTART;TZID=UTC:20280812T080000
DTEND;TZID=UTC:20280812T170000
DTSTAMP:20260425T195306
CREATED:20260226T192605Z
LAST-MODIFIED:20260226T192609Z
UID:10000442-1849680000-1849712400@northshoretx.com
SUMMARY:MGA Monthly Golf Tournament
DESCRIPTION:
URL:https://northshoretx.com/event/mga-monthly-golf-tournament/2028-08-12/
END:VEVENT
BEGIN:VEVENT
DTSTART;TZID=UTC:20280813T080000
DTEND;TZID=UTC:20280813T170000
DTSTAMP:20260425T195306
CREATED:20260226T192144Z
LAST-MODIFIED:20260226T192148Z
UID:10000150-1849766400-1849798800@northshoretx.com
SUMMARY:Sunday Brunch
DESCRIPTION:
URL:https://northshoretx.com/event/sunday-brunch/2028-08-13/
END:VEVENT
BEGIN:VEVENT
DTSTART;TZID=UTC:20280818T170000
DTEND;TZID=UTC:20280818T210000
DTSTAMP:20260425T195306
CREATED:20260226T203228Z
LAST-MODIFIED:20260226T203234Z
UID:10000538-1850230800-1850245200@northshoretx.com
SUMMARY:Poker Night at NorthShore
DESCRIPTION:
URL:https://northshoretx.com/event/poker-night-at-northshore/2028-08-18/
END:VEVENT
BEGIN:VEVENT
DTSTART;TZID=UTC:20280820T080000
DTEND;TZID=UTC:20280820T170000
DTSTAMP:20260425T195306
CREATED:20260226T192144Z
LAST-MODIFIED:20260226T192148Z
UID:10000151-1850371200-1850403600@northshoretx.com
SUMMARY:Sunday Brunch
DESCRIPTION:
URL:https://northshoretx.com/event/sunday-brunch/2028-08-20/
END:VEVENT
BEGIN:VEVENT
DTSTART;TZID=UTC:20280827T080000
DTEND;TZID=UTC:20280827T170000
DTSTAMP:20260425T195306
CREATED:20260226T192144Z
LAST-MODIFIED:20260226T192148Z
UID:10000152-1850976000-1851008400@northshoretx.com
SUMMARY:Sunday Brunch
DESCRIPTION:
URL:https://northshoretx.com/event/sunday-brunch/2028-08-27/
END:VEVENT
BEGIN:VEVENT
DTSTART;TZID=UTC:20280901T170000
DTEND;TZID=UTC:20280901T210000
DTSTAMP:20260425T195306
CREATED:20260226T203228Z
LAST-MODIFIED:20260226T203234Z
UID:10000539-1851440400-1851454800@northshoretx.com
SUMMARY:Poker Night at NorthShore
DESCRIPTION:
URL:https://northshoretx.com/event/poker-night-at-northshore/2028-09-01/
END:VEVENT
BEGIN:VEVENT
DTSTART;TZID=UTC:20280903T080000
DTEND;TZID=UTC:20280903T170000
DTSTAMP:20260425T195306
CREATED:20260226T192144Z
LAST-MODIFIED:20260226T192148Z
UID:10000153-1851580800-1851613200@northshoretx.com
SUMMARY:Sunday Brunch
DESCRIPTION:
URL:https://northshoretx.com/event/sunday-brunch/2028-09-03/
END:VEVENT
BEGIN:VEVENT
DTSTART;TZID=UTC:20280909T080000
DTEND;TZID=UTC:20280909T170000
DTSTAMP:20260425T195306
CREATED:20260226T192605Z
LAST-MODIFIED:20260226T192609Z
UID:10000443-1852099200-1852131600@northshoretx.com
SUMMARY:MGA Monthly Golf Tournament
DESCRIPTION:
URL:https://northshoretx.com/event/mga-monthly-golf-tournament/2028-09-09/
END:VEVENT
BEGIN:VEVENT
DTSTART;TZID=UTC:20280910T080000
DTEND;TZID=UTC:20280910T170000
DTSTAMP:20260425T195306
CREATED:20260226T192144Z
LAST-MODIFIED:20260226T192148Z
UID:10000154-1852185600-1852218000@northshoretx.com
SUMMARY:Sunday Brunch
DESCRIPTION:
URL:https://northshoretx.com/event/sunday-brunch/2028-09-10/
END:VEVENT
BEGIN:VEVENT
DTSTART;TZID=UTC:20280915T170000
DTEND;TZID=UTC:20280915T210000
DTSTAMP:20260425T195306
CREATED:20260226T203228Z
LAST-MODIFIED:20260226T203234Z
UID:10000540-1852650000-1852664400@northshoretx.com
SUMMARY:Poker Night at NorthShore
DESCRIPTION:
URL:https://northshoretx.com/event/poker-night-at-northshore/2028-09-15/
END:VEVENT
BEGIN:VEVENT
DTSTART;TZID=UTC:20280917T080000
DTEND;TZID=UTC:20280917T170000
DTSTAMP:20260425T195306
CREATED:20260226T192144Z
LAST-MODIFIED:20260226T192148Z
UID:10000155-1852790400-1852822800@northshoretx.com
SUMMARY:Sunday Brunch
DESCRIPTION:
URL:https://northshoretx.com/event/sunday-brunch/2028-09-17/
END:VEVENT
BEGIN:VEVENT
DTSTART;TZID=UTC:20280924T080000
DTEND;TZID=UTC:20280924T170000
DTSTAMP:20260425T195306
CREATED:20260226T192144Z
LAST-MODIFIED:20260226T192148Z
UID:10000156-1853395200-1853427600@northshoretx.com
SUMMARY:Sunday Brunch
DESCRIPTION:
URL:https://northshoretx.com/event/sunday-brunch/2028-09-24/
END:VEVENT
BEGIN:VEVENT
DTSTART;TZID=UTC:20280929T170000
DTEND;TZID=UTC:20280929T210000
DTSTAMP:20260425T195306
CREATED:20260226T203228Z
LAST-MODIFIED:20260226T203234Z
UID:10000541-1853859600-1853874000@northshoretx.com
SUMMARY:Poker Night at NorthShore
DESCRIPTION:
URL:https://northshoretx.com/event/poker-night-at-northshore/2028-09-29/
END:VEVENT
BEGIN:VEVENT
DTSTART;TZID=UTC:20281001T080000
DTEND;TZID=UTC:20281001T170000
DTSTAMP:20260425T195306
CREATED:20260226T192144Z
LAST-MODIFIED:20260226T192148Z
UID:10000157-1854000000-1854032400@northshoretx.com
SUMMARY:Sunday Brunch
DESCRIPTION:
URL:https://northshoretx.com/event/sunday-brunch/2028-10-01/
END:VEVENT
BEGIN:VEVENT
DTSTART;TZID=UTC:20281008T080000
DTEND;TZID=UTC:20281008T170000
DTSTAMP:20260425T195306
CREATED:20260226T192144Z
LAST-MODIFIED:20260226T192148Z
UID:10000158-1854604800-1854637200@northshoretx.com
SUMMARY:Sunday Brunch
DESCRIPTION:
URL:https://northshoretx.com/event/sunday-brunch/2028-10-08/
END:VEVENT
BEGIN:VEVENT
DTSTART;TZID=UTC:20281013T170000
DTEND;TZID=UTC:20281013T210000
DTSTAMP:20260425T195306
CREATED:20260226T203228Z
LAST-MODIFIED:20260226T203234Z
UID:10000542-1855069200-1855083600@northshoretx.com
SUMMARY:Poker Night at NorthShore
DESCRIPTION:
URL:https://northshoretx.com/event/poker-night-at-northshore/2028-10-13/
END:VEVENT
BEGIN:VEVENT
DTSTART;TZID=UTC:20281014T080000
DTEND;TZID=UTC:20281014T170000
DTSTAMP:20260425T195306
CREATED:20260226T192605Z
LAST-MODIFIED:20260226T192609Z
UID:10000444-1855123200-1855155600@northshoretx.com
SUMMARY:MGA Monthly Golf Tournament
DESCRIPTION:
URL:https://northshoretx.com/event/mga-monthly-golf-tournament/2028-10-14/
END:VEVENT
BEGIN:VEVENT
DTSTART;TZID=UTC:20281015T080000
DTEND;TZID=UTC:20281015T170000
DTSTAMP:20260425T195306
CREATED:20260226T192144Z
LAST-MODIFIED:20260226T192148Z
UID:10000159-1855209600-1855242000@northshoretx.com
SUMMARY:Sunday Brunch
DESCRIPTION:
URL:https://northshoretx.com/event/sunday-brunch/2028-10-15/
END:VEVENT
BEGIN:VEVENT
DTSTART;TZID=UTC:20281022T080000
DTEND;TZID=UTC:20281022T170000
DTSTAMP:20260425T195306
CREATED:20260226T192144Z
LAST-MODIFIED:20260226T192148Z
UID:10000160-1855814400-1855846800@northshoretx.com
SUMMARY:Sunday Brunch
DESCRIPTION:
URL:https://northshoretx.com/event/sunday-brunch/2028-10-22/
END:VEVENT
BEGIN:VEVENT
DTSTART;TZID=UTC:20281027T170000
DTEND;TZID=UTC:20281027T210000
DTSTAMP:20260425T195306
CREATED:20260226T203228Z
LAST-MODIFIED:20260226T203234Z
UID:10000543-1856278800-1856293200@northshoretx.com
SUMMARY:Poker Night at NorthShore
DESCRIPTION:
URL:https://northshoretx.com/event/poker-night-at-northshore/2028-10-27/
END:VEVENT
BEGIN:VEVENT
DTSTART;TZID=UTC:20281029T080000
DTEND;TZID=UTC:20281029T170000
DTSTAMP:20260425T195306
CREATED:20260226T192144Z
LAST-MODIFIED:20260226T192148Z
UID:10000161-1856419200-1856451600@northshoretx.com
SUMMARY:Sunday Brunch
DESCRIPTION:
URL:https://northshoretx.com/event/sunday-brunch/2028-10-29/
END:VEVENT
BEGIN:VEVENT
DTSTART;TZID=UTC:20281105T080000
DTEND;TZID=UTC:20281105T170000
DTSTAMP:20260425T195306
CREATED:20260226T192144Z
LAST-MODIFIED:20260226T192148Z
UID:10000162-1857024000-1857056400@northshoretx.com
SUMMARY:Sunday Brunch
DESCRIPTION:
URL:https://northshoretx.com/event/sunday-brunch/2028-11-05/
END:VEVENT
BEGIN:VEVENT
DTSTART;TZID=UTC:20281110T170000
DTEND;TZID=UTC:20281110T210000
DTSTAMP:20260425T195306
CREATED:20260226T203228Z
LAST-MODIFIED:20260226T203234Z
UID:10000544-1857488400-1857502800@northshoretx.com
SUMMARY:Poker Night at NorthShore
DESCRIPTION:
URL:https://northshoretx.com/event/poker-night-at-northshore/2028-11-10/
END:VEVENT
END:VCALENDAR