BEGIN:VCALENDAR
VERSION:2.0
PRODID:-//NorthShore Country Club - Portland, TX - ECPv6.15.20//NONSGML v1.0//EN
CALSCALE:GREGORIAN
METHOD:PUBLISH
X-WR-CALNAME:NorthShore Country Club - Portland, TX
X-ORIGINAL-URL:https://northshoretx.com
X-WR-CALDESC:Events for NorthShore Country Club - Portland, TX
REFRESH-INTERVAL;VALUE=DURATION:PT1H
X-Robots-Tag:noindex
X-PUBLISHED-TTL:PT1H
BEGIN:VTIMEZONE
TZID:UTC
BEGIN:STANDARD
TZOFFSETFROM:+0000
TZOFFSETTO:+0000
TZNAME:UTC
DTSTART:20240101T000000
END:STANDARD
END:VTIMEZONE
BEGIN:VEVENT
DTSTART;TZID=UTC:20251025T170000
DTEND;TZID=UTC:20251025T210000
DTSTAMP:20260421T162948
CREATED:20251015T190530Z
LAST-MODIFIED:20251015T191953Z
UID:10000012-1761411600-1761426000@northshoretx.com
SUMMARY:Day into Night Tournament
DESCRIPTION:DAY INTO NIGHT TOURNAMENT \n\n\n\nTUESDAY\, OCT. 25  |  5:00 PM \n\n\n\nCome in for a Fajitas & Ritas Dinner\, then play 9 holes after dark with Glow in the Dark golf.  It is a fun-filled event! \n\n\n\n$80 per person \n\n\n\nIncludes the golf\, glow balls & goodies\, dinner and prizes!  \n\n\n\nSIGN UP TODAY!
URL:https://northshoretx.com/event/day-into-night-tournament/
CATEGORIES:Tournaments
END:VEVENT
END:VCALENDAR